BEGIN:VCALENDAR
VERSION:2.0
PRODID:-//wp-events-plugin.com//7.2.3.1//EN
BEGIN:VEVENT
UID:6@sonorasantanera.com
DTSTART;TZID=America/Mexico_City:20240211T170000
DTEND;TZID=America/Mexico_City:20240211T190000
DTSTAMP:20240201T222606Z
URL:https://sonorasantanera.com/eventos/zocalo11feb/
SUMMARY:Zócalo de la CDMX - Sonora Santanera Tour Sinfónico
DESCRIPTION:Celebra el mes del amor con la Sonora Santanera en un concierto
  único interpretando todos sus clásicos acompañados de una Orquesta Sin
 fónica con una nueva producción espectacular. en el escenario mas emblem
 ático de México\, el  Zócalo de la CDMX.\n\n&nbsp\;\n\n
LOCATION:https://maps.app.goo.gl/DAFM3ZMV5VjnetEx7
END:VEVENT
BEGIN:VTIMEZONE
TZID:America/Mexico_City
X-LIC-LOCATION:America/Mexico_City
BEGIN:STANDARD
DTSTART:20230211T170000
TZOFFSETFROM:-0600
TZOFFSETTO:-0600
TZNAME:CST
END:STANDARD
END:VTIMEZONE
END:VCALENDAR