BEGIN:VCALENDAR
VERSION:2.0
PRODID:-//wp-events-plugin.com//7.2.3.1//EN
BEGIN:VEVENT
UID:4@sonorasantanera.com
DTSTART;TZID=America/Mexico_City:20240602T190000
DTEND;TZID=America/Mexico_City:20240602T210000
DTSTAMP:20240121T185848Z
URL:https://sonorasantanera.com/eventos/auditorionacional2jun/
SUMMARY:Auditorio Nacional CDMX - La Boa Tour Sinfónico
DESCRIPTION:Regresa Sonora Santanera al Auditorio Nacional para presentar s
 u nuevo show “La Boa Tour Sinfónico” en este show podremos disfrutar 
 los principales éxitos de Sonora Santanera acompañados de una gran produ
 cción\, una noche única para recordar.\n\n&nbsp\;\n\n
LOCATION:https://maps.app.goo.gl/aehhEng71L9Zy89v9
END:VEVENT
BEGIN:VTIMEZONE
TZID:America/Mexico_City
X-LIC-LOCATION:America/Mexico_City
BEGIN:STANDARD
DTSTART:20230603T190000
TZOFFSETFROM:-0600
TZOFFSETTO:-0600
TZNAME:CST
END:STANDARD
END:VTIMEZONE
END:VCALENDAR